BEGIN:VCALENDAR
VERSION:2.0
PRODID:icalendar-ruby
CALSCALE:GREGORIAN
METHOD:PUBLISH
BEGIN:VEVENT
DTSTAMP:20260424T102142Z
UID:19-69677@calvarycommunity.us
DTSTART:20260927T130000Z
DTEND:20260927T134500Z
CLASS:PUBLIC
CREATED:20260423T214549
DESCRIPTION:
LAST-MODIFIED:20260423T214549
LOCATION:Sunday Mornings 9:00am Upper Room
SUMMARY:World View Matters!
URL;VALUE=URI:https://calvarycommunity.us/events/world-view-matters/2026-09
 -27
END:VEVENT
END:VCALENDAR
