BEGIN:VCALENDAR
VERSION:2.0
PRODID:icalendar-ruby
CALSCALE:GREGORIAN
METHOD:PUBLISH
BEGIN:VEVENT
DTSTAMP:20260424T122108Z
UID:19-69761@calvarycommunity.us
DTSTART:20261004T130000Z
DTEND:20261004T134500Z
CLASS:PUBLIC
CREATED:20260424T071406
DESCRIPTION:
LAST-MODIFIED:20260424T071406
LOCATION:Sunday Mornings 9:00am Upper Room
SUMMARY:World View Matters!
URL;VALUE=URI:https://calvarycommunity.us/events/world-view-matters/2026-10
 -04
END:VEVENT
END:VCALENDAR
