BEGIN:VCALENDAR
VERSION:2.0
PRODID:icalendar-ruby
CALSCALE:GREGORIAN
METHOD:PUBLISH
BEGIN:VEVENT
DTSTAMP:20260424T161353Z
UID:19-69846@calvarycommunity.us
DTSTART:20261018T130000Z
DTEND:20261018T134500Z
CLASS:PUBLIC
CREATED:20260424T100806
DESCRIPTION:
LAST-MODIFIED:20260424T100806
LOCATION:Sunday Mornings 9:00am Upper Room
SUMMARY:World View Matters!
URL;VALUE=URI:https://calvarycommunity.us/events/world-view-matters/2026-10
 -18
END:VEVENT
END:VCALENDAR
